BEGIN:VCALENDAR
VERSION:2.0
PRODID:-//wp-events-plugin.com//7.2.3.1//EN
BEGIN:VEVENT
UID:1074@segoviaesclerosis.org
DTSTART:20141018T163000Z
DTEND:20141018T173000Z
DTSTAMP:20141009T090126Z
URL:https://www.segoviaesclerosis.org/events/visita-a-la-fabrica-de-vidrio
 -de-la-granja/
SUMMARY:Visita a la fábrica de vidrio de la granja
DESCRIPTION:Los interesados pasar o llamar a la asociación para cerrar los
  grupos. Gratuito para asociados
CATEGORIES:Eventos
LOCATION:Fabrica de vidrio\, Fabrica de vidrio\, LA granja de san ildefonso
 \, segovia\, Castilla Leon\, España
GEO:40.9021226;-4.0072898999999325
X-APPLE-STRUCTURED-LOCATION;VALUE=URI;X-ADDRESS=Fabrica de vidrio\, LA gran
 ja de san ildefonso\, segovia\, Castilla Leon\, España;X-APPLE-RADIUS=100
 ;X-TITLE=Fabrica de vidrio:geo:40.9021226,-4.0072898999999325
END:VEVENT
END:VCALENDAR