BEGIN:VCALENDAR
VERSION:2.0
PRODID:-//wp-events-plugin.com//7.2.3.1//EN
BEGIN:VEVENT
UID:2704@segoviaesclerosis.org
DTSTART;TZID=Europe/Madrid;VALUE=DATE:20221106
DTEND;TZID=Europe/Madrid;VALUE=DATE:20221107
DTSTAMP:20221020T124939Z
URL:https://www.segoviaesclerosis.org/events/visita-a-la-abadia-de-parrace
 s/
SUMMARY:Visita a la Abadía de Parraces
DESCRIPTION:Buenos días\,\nOs informamos que el domingo día 6 de noviemb
 re de 2022 vamos a organizar una visita a la Abadía de Parraces y post
 erior comida en el bar Fortuna de Marugan.\nLa hora de la visita será sob
 re las 12 horas.\nPara el desplazamiento existe la posibilidad de alquilar
  un microbús (22 personas) y el coste sería de 8\,50€ por persona\, si
 empre que se apuntasen ese número de personas\, si no saliera adelante ca
 da uno se tendría que desplazar con su vehículo.\nLa hora de la comida s
 erá sobre las 14.30h aprox.\, y tendrá un coste de 20 euros aprox.\, pen
 diente de concretar.\nComo es un día de convivencia para todos los socios
  y se trata de pasarlo bien\, sería posible que se apuntase algún famili
 ar o amigo de los socios con el mismo precio más un donativo.\nSe ruega c
 onfirmación de asistencia antes del 29 de octubre para poder hacer la r
 eserva en del bar y del autobús en caso de que saliera adelante.\n¡Anima
 ros!
CATEGORIES:Eventos
END:VEVENT
BEGIN:VTIMEZONE
TZID:Europe/Madrid
X-LIC-LOCATION:Europe/Madrid
BEGIN:STANDARD
DTSTART:20221030T020000
TZOFFSETFROM:+0200
TZOFFSETTO:+0100
TZNAME:CET
END:STANDARD
END:VTIMEZONE
END:VCALENDAR