BEGIN:VCALENDAR
VERSION:2.0
PRODID:-//wp-events-plugin.com//7.2.3.1//EN
BEGIN:VEVENT
UID:2702@segoviaesclerosis.org
DTSTART:20221009T083000Z
DTEND:20221009T093000Z
DTSTAMP:20221004T105723Z
URL:https://www.segoviaesclerosis.org/events/viii-dia-de-la-bicicleta-de-s
 egovia-en-favor-de-asgem/
SUMMARY:VIII dia de la bicicleta de segovia en favor de ASGEM
DESCRIPTION:La recaudación irá en favor de ASGEM\n\n&nbsp\;\n\n
CATEGORIES:Eventos
LOCATION:hontanares de eresma\, plaza mayor\, hontanares de eresma\, segovi
 a\, 40490\, castilla y leon\, España
X-APPLE-STRUCTURED-LOCATION;VALUE=URI;X-ADDRESS=plaza mayor\, hontanares de
  eresma\, segovia\, 40490\, castilla y leon\, España;X-APPLE-RADIUS=100;X
 -TITLE=hontanares de eresma:geo:0,0
END:VEVENT
END:VCALENDAR