BEGIN:VCALENDAR
VERSION:2.0
PRODID:-//wp-events-plugin.com//7.2.3.1//EN
BEGIN:VEVENT
UID:2767@segoviaesclerosis.org
DTSTART;TZID=Europe/Madrid;VALUE=DATE:20230902
DTEND;TZID=Europe/Madrid;VALUE=DATE:20230903
DTSTAMP:20230901T125809Z
URL:https://www.segoviaesclerosis.org/events/valverde-asgem/
SUMMARY:Valverde ASGEM
DESCRIPTION:Buenos días\, el próximo sábado tenemos una carrera y marcha
  en Valverde del Majano. Necesitamos vuestra colaboración!!! Si te apetec
 e venir a pasar un buen rato escríbenos para contar contigo y echar una
  mano.\n\n\n\n&nbsp\;
CATEGORIES:Eventos
LOCATION:Piscina Valverde\, Piscina\, valverde del majano\, Segovia\, 40140
 \, castilla y leon\, España
X-APPLE-STRUCTURED-LOCATION;VALUE=URI;X-ADDRESS=Piscina\, valverde del maja
 no\, Segovia\, 40140\, castilla y leon\, España;X-APPLE-RADIUS=100;X-TITL
 E=Piscina Valverde:geo:0,0
END:VEVENT
BEGIN:VTIMEZONE
TZID:Europe/Madrid
X-LIC-LOCATION:Europe/Madrid
BEGIN:DAYLIGHT
DTSTART:20230326T030000
TZOFFSETFROM:+0100
TZOFFSETTO:+0200
TZNAME:CEST
END:DAYLIGHT
END:VTIMEZONE
END:VCALENDAR