BEGIN:VCALENDAR
VERSION:2.0
PRODID:-//wp-events-plugin.com//7.2.3.1//EN
BEGIN:VEVENT
UID:2712@segoviaesclerosis.org
DTSTART;TZID=Europe/Madrid:20230508T093000
DTEND;TZID=Europe/Madrid:20230509T123000
DTSTAMP:20230417T104207Z
URL:https://www.segoviaesclerosis.org/events/taller-de-cocina/
SUMMARY:Taller de cocina
DESCRIPTION:Buenos días\,\nOs informamos que los próximos días 8 y 9 de
  mayo por la mañana\, vamos a organizar un taller de cocina en el Instit
 uto Felipe VI. El lunes 8 el taller será de cocina tradicional y el marte
 s de repostería.\nLos interesados podéis apuntaros a lo largo de esta se
 mana por email o por teléfono.\nLa plazas son limitadas.\nOs esperamos!!\
 nUn saludo\,
CATEGORIES:Talleres
LOCATION:Instituto Felipe VI\, damaso alonso 23\, segovia\, Castilla y Leó
 n\, 40006\, segovia\, España
X-APPLE-STRUCTURED-LOCATION;VALUE=URI;X-ADDRESS=damaso alonso 23\, segovia\
 , Castilla y León\, 40006\, segovia\, España;X-APPLE-RADIUS=100;X-TITLE=
 Instituto Felipe VI:geo:0,0
END:VEVENT
BEGIN:VTIMEZONE
TZID:Europe/Madrid
X-LIC-LOCATION:Europe/Madrid
BEGIN:DAYLIGHT
DTSTART:20230326T030000
TZOFFSETFROM:+0100
TZOFFSETTO:+0200
TZNAME:CEST
END:DAYLIGHT
END:VTIMEZONE
END:VCALENDAR