BEGIN:VCALENDAR
VERSION:2.0
PRODID:-//wp-events-plugin.com//7.2.3.1//EN
BEGIN:VEVENT
UID:2711@segoviaesclerosis.org
DTSTART;TZID=Europe/Madrid:20230221T210000
DTEND;TZID=Europe/Madrid:20230221T220000
DTSTAMP:20230217T143652Z
URL:https://www.segoviaesclerosis.org/events/potaje-de-carnaval/
SUMMARY:Potaje de Carnaval
DESCRIPTION:Buenos días\,\nEl próximo martes 21 de febrero es el Potaje d
 e Carnaval en la Plaza Mayor a las 21.00h\, este año la recaudación es p
 ara nuestra Asociación\, necesitamos colaboración para la venta de ticke
 ts a partir de las 20.00h en la Plaza Mayor.\nMuchas gracias por vuestra a
 yuda!
CATEGORIES:Eventos
LOCATION:PLAZA MAYOR DE SEGOVIA\, plaza mayor\, SEGOVIA\, Segovia\, 40001\,
  castilla y leon\, España
X-APPLE-STRUCTURED-LOCATION;VALUE=URI;X-ADDRESS=plaza mayor\, SEGOVIA\, Seg
 ovia\, 40001\, castilla y leon\, España;X-APPLE-RADIUS=100;X-TITLE=PLAZA 
 MAYOR DE SEGOVIA:geo:0,0
END:VEVENT
BEGIN:VTIMEZONE
TZID:Europe/Madrid
X-LIC-LOCATION:Europe/Madrid
BEGIN:STANDARD
DTSTART:20221030T020000
TZOFFSETFROM:+0200
TZOFFSETTO:+0100
TZNAME:CET
END:STANDARD
END:VTIMEZONE
END:VCALENDAR