BEGIN:VCALENDAR
VERSION:2.0
PRODID:-//wp-events-plugin.com//7.2.3.1//EN
BEGIN:VEVENT
UID:2705@segoviaesclerosis.org
DTSTART;TZID=Europe/Madrid;VALUE=DATE:20221117
DTEND;TZID=Europe/Madrid;VALUE=DATE:20221118
DTSTAMP:20221116T100654Z
URL:https://www.segoviaesclerosis.org/events/mercado-solidario-de-s-lorenz
 o/
SUMMARY:Mercado solidario de S Lorenzo
DESCRIPTION:El próximo 17 de diciembre se celebrará el II mercado navide
 ño solidario en el barrio de San Lorenzo. Aún tienen que cerrar el progr
 ama\, pero va a estar lleno de actividades a lo largo del día\, además d
 e poder disfrutar del mercado en el cuál nuestra asociación tendrá un p
 uesto de venta de productos navideños y merchandising.\n\nSi algún socio
  o familiar o amigo tiene posibilidad de realizar alguna manualidad navide
 ña estaremos encantados de poder tenerla en nuestro puesto.\n\nPor otro l
 ado habrá un sorteo solidario y desde la asociación tenemos que vender 1
 00 rifas. Podéis pasar por nuestra sede para poder coger las vuestras\, y
  recordad que es muy importante vender cuántas más mejor ya que el diner
 o recaudado será repartido entre todas las asociaciones que participamos.
  El precio es 1 número de rifa 1 euro.\n\nAdemás ya podéis apuntaros pa
 ra hacer turnos en el puesto\, o para ayudar en el montaje y desmontaje de
  las carpas\, o ayudar en la actividades que se realizarán si fuera neces
 aria nuestra presencia para que la jornada sea un éxito.
CATEGORIES:Eventos
LOCATION:plaza san lorenzo\, plaza san lorenzo\, segovia\, segovia\, españ
 a\, España
X-APPLE-STRUCTURED-LOCATION;VALUE=URI;X-ADDRESS=plaza san lorenzo\, segovia
 \, segovia\, españa\, España;X-APPLE-RADIUS=100;X-TITLE=plaza san lorenz
 o:geo:0,0
END:VEVENT
BEGIN:VTIMEZONE
TZID:Europe/Madrid
X-LIC-LOCATION:Europe/Madrid
BEGIN:STANDARD
DTSTART:20221030T020000
TZOFFSETFROM:+0200
TZOFFSETTO:+0100
TZNAME:CET
END:STANDARD
END:VTIMEZONE
END:VCALENDAR