BEGIN:VCALENDAR
VERSION:2.0
PRODID:-//wp-events-plugin.com//7.2.3.1//EN
BEGIN:VEVENT
UID:2713@segoviaesclerosis.org
DTSTART;TZID=Europe/Madrid;VALUE=DATE:20230507
DTEND;TZID=Europe/Madrid;VALUE=DATE:20230508
DTSTAMP:20230421T175226Z
URL:https://www.segoviaesclerosis.org/events/marcha-de-la-mujer/
SUMMARY:Marcha de la mujer
DESCRIPTION:&nbsp\;\n\nBuenos días\,\n\n&nbsp\;\n\n&nbsp\;\n\n&nbsp\;\n\nE
 l próximo día 7 de mayo se celebrará la Marcha de la Mujer en Segovia y
  necesitamos voluntarios para ayudar a la organización\, ya que este año
  parte de la recaudación nos la van a donar a nuestra Asociacion. Si est
 áis interesados en colaborar poneros en contacto con la Asociación.\n\n&
 nbsp\;\n\n&nbsp\;\n\n&nbsp\;\n\n&nbsp\;\n\n&nbsp\;\n\nMuchas gracias por v
 uestra colaboración.\n\n&nbsp\;\n\n&nbsp\;\n\n&nbsp\;\n\nUn saludo\,\n\n&
 nbsp\;\n\n&nbsp\;\n\n&nbsp\;\n\n&nbsp\;\n\n&nbsp\;\n\n&nbsp\;\n\n&nbsp\;\n
 \n&nbsp\;\n\n&nbsp\;\n\n&nbsp\;
CATEGORIES:Eventos
END:VEVENT
BEGIN:VTIMEZONE
TZID:Europe/Madrid
X-LIC-LOCATION:Europe/Madrid
BEGIN:DAYLIGHT
DTSTART:20230326T030000
TZOFFSETFROM:+0100
TZOFFSETTO:+0200
TZNAME:CEST
END:DAYLIGHT
END:VTIMEZONE
END:VCALENDAR