BEGIN:VCALENDAR
VERSION:2.0
PRODID:-//wp-events-plugin.com//7.2.3.1//EN
BEGIN:VEVENT
UID:2707@segoviaesclerosis.org
DTSTART;TZID=Europe/Madrid;VALUE=DATE:20230121
DTEND;TZID=Europe/Madrid;VALUE=DATE:20230122
DTSTAMP:20230117T203048Z
URL:https://www.segoviaesclerosis.org/events/judiada-cobos/
SUMMARY:Judiada Cobos
DESCRIPTION:El próximo sábado 21 de enero\, por fin volvemos a celebrar l
 a Judiada solidaria de Cobos... Os animamos a participar en este gran even
 to que organizamos a beneficio de la Asociación! Os esperamos! Feliz añ
 o a tod@s!\n\n&nbsp\;\n\n
CATEGORIES:Eventos
LOCATION:cobos\, Plaza del mediodia\, Cobos\, segovia\, 40144\, castilla y 
 leon\, España
X-APPLE-STRUCTURED-LOCATION;VALUE=URI;X-ADDRESS=Plaza del mediodia\, Cobos\
 , segovia\, 40144\, castilla y leon\, España;X-APPLE-RADIUS=100;X-TITLE=c
 obos:geo:0,0
END:VEVENT
BEGIN:VTIMEZONE
TZID:Europe/Madrid
X-LIC-LOCATION:Europe/Madrid
BEGIN:STANDARD
DTSTART:20221030T020000
TZOFFSETFROM:+0200
TZOFFSETTO:+0100
TZNAME:CET
END:STANDARD
END:VTIMEZONE
END:VCALENDAR