BEGIN:VCALENDAR
VERSION:2.0
PRODID:-//wp-events-plugin.com//7.2.3.1//EN
BEGIN:VEVENT
UID:2703@segoviaesclerosis.org
DTSTART:20221008T090000Z
DTEND:20221008T220000Z
DTSTAMP:20221004T110133Z
URL:https://www.segoviaesclerosis.org/events/iv-edicion-dia-del-garbanzo/
SUMMARY:IV Edición dia del garbanzo
DESCRIPTION:
CATEGORIES:Eventos
LOCATION:lavajos\, plaza mayor\, Lavajos\, segovia\, castilla y leon\, Espa
 ña
X-APPLE-STRUCTURED-LOCATION;VALUE=URI;X-ADDRESS=plaza mayor\, Lavajos\, seg
 ovia\, castilla y leon\, España;X-APPLE-RADIUS=100;X-TITLE=lavajos:geo:0,
 0
END:VEVENT
END:VCALENDAR