BEGIN:VCALENDAR
VERSION:2.0
PRODID:-//wp-events-plugin.com//7.2.3.1//EN
BEGIN:VEVENT
UID:2812@segoviaesclerosis.org
DTSTART;TZID=Europe/Madrid;VALUE=DATE:20231103
DTEND;TZID=Europe/Madrid;VALUE=DATE:20231104
DTSTAMP:20231031T143912Z
URL:https://www.segoviaesclerosis.org/events/indoor-walking/
SUMMARY:Indoor Walking queda pospuesto
DESCRIPTION:Demostración y charla Nordic Walking. De 16.30 a 18.00 horas h
 abrá una demostración en el parque de al lado de la Asociación si el ti
 empo lo permite y a las 18.00h una charla en la Asociación.\n\n&nbsp\;\n\
 n
CATEGORIES:Eventos
LOCATION:Jesus Mazariegos\, C/Andres Reguera Anton s/n\, 3ºPlanta\, Segovi
 a\, Segovia\, 40004\, castilla y leon\, España
X-APPLE-STRUCTURED-LOCATION;VALUE=URI;X-ADDRESS=C/Andres Reguera Anton s/n\
 , 3ºPlanta\, Segovia\, Segovia\, 40004\, castilla y leon\, España;X-APPL
 E-RADIUS=100;X-TITLE=Jesus Mazariegos:geo:0,0
END:VEVENT
BEGIN:VTIMEZONE
TZID:Europe/Madrid
X-LIC-LOCATION:Europe/Madrid
BEGIN:STANDARD
DTSTART:20231029T020000
TZOFFSETFROM:+0200
TZOFFSETTO:+0100
TZNAME:CET
END:STANDARD
END:VTIMEZONE
END:VCALENDAR