BEGIN:VCALENDAR
VERSION:2.0
PRODID:-//wp-events-plugin.com//7.2.3.1//EN
BEGIN:VEVENT
UID:2710@segoviaesclerosis.org
DTSTART;TZID=Europe/Madrid:20230413T200000
DTEND;TZID=Europe/Madrid:20230413T210000
DTSTAMP:20230209T094624Z
URL:https://www.segoviaesclerosis.org/events/concierto-mester/
SUMMARY:Concierto Mester
DESCRIPTION:Buenos días\,\nOs informamos que el próximo 13 de abril de 2
 023 a las 20.00h se celebrará en el Teatro Juan Bravo un concierto de
 l Nuevo Mester de Juglaría.\nEl precio de la entrada es de 15 euros.\nSi 
 estáis interesados en asistir\, os podéis ir apuntando en la Asociacion.
 \nUn saludo\,\n
CATEGORIES:Eventos
LOCATION:TEATRO JUAN BRAVO\, PZA MAYOR\, SEGOVIA\, España
GEO:40.9504185;-4.124182900000051
X-APPLE-STRUCTURED-LOCATION;VALUE=URI;X-ADDRESS=PZA MAYOR\, SEGOVIA\, Espa
 ña;X-APPLE-RADIUS=100;X-TITLE=TEATRO JUAN BRAVO:geo:40.9504185,-4.1241829
 00000051
END:VEVENT
BEGIN:VTIMEZONE
TZID:Europe/Madrid
X-LIC-LOCATION:Europe/Madrid
BEGIN:DAYLIGHT
DTSTART:20230326T030000
TZOFFSETFROM:+0100
TZOFFSETTO:+0200
TZNAME:CEST
END:DAYLIGHT
END:VTIMEZONE
END:VCALENDAR