BEGIN:VCALENDAR
VERSION:2.0
PRODID:-//wp-events-plugin.com//7.2.3.1//EN
BEGIN:VEVENT
UID:2717@segoviaesclerosis.org
DTSTART;TZID=Europe/Madrid:20230628T140000
DTEND;TZID=Europe/Madrid:20230628T150000
DTSTAMP:20230616T100904Z
URL:https://www.segoviaesclerosis.org/events/comida-la-trebede/
SUMMARY:Comida La Trebede
DESCRIPTION:
CATEGORIES:Eventos
LOCATION:Latrevede\, c/ el alamo\, Segovia\, Castilla y León\, 40140\, seg
 ovia\, España
X-APPLE-STRUCTURED-LOCATION;VALUE=URI;X-ADDRESS=c/ el alamo\, Segovia\, Cas
 tilla y León\, 40140\, segovia\, España;X-APPLE-RADIUS=100;X-TITLE=Latre
 vede:geo:0,0
END:VEVENT
BEGIN:VTIMEZONE
TZID:Europe/Madrid
X-LIC-LOCATION:Europe/Madrid
BEGIN:DAYLIGHT
DTSTART:20230326T030000
TZOFFSETFROM:+0100
TZOFFSETTO:+0200
TZNAME:CEST
END:DAYLIGHT
END:VTIMEZONE
END:VCALENDAR