BEGIN:VCALENDAR
VERSION:2.0
PRODID:-//wp-events-plugin.com//7.2.3.1//EN
BEGIN:VEVENT
UID:2715@segoviaesclerosis.org
DTSTART;TZID=Europe/Madrid:20230523T090000
DTEND;TZID=Europe/Madrid:20230523T110000
DTSTAMP:20230505T084553Z
URL:https://www.segoviaesclerosis.org/events/cifp-felipe-vi-taller-de-pein
 ados-maquillajes-y-manicuras/
SUMMARY: CIFP FELIPE VI\, taller de peinados\, maquillajes y manicuras.
DESCRIPTION:Buenos días\,\nDesde el departamento de Imagen Personal del 
 CIFP FELIPE VI\, nos proponen para el próximo 23 de mayo de 2023 de 9 
 a 11 horas una actividad para enseñarnos peinados\, maquillajes y manicu
 ras.\nLos interesados podéis apuntaros hasta el día 19 de mayo por email
  o por teléfono.\nLa plazas son limitadas.\nOs esperamos!!\nUn saludo\,
CATEGORIES:Talleres
LOCATION:Instituto Felipe VI\, damaso alonso 23\, segovia\, Castilla y Leó
 n\, 40006\, segovia\, España
X-APPLE-STRUCTURED-LOCATION;VALUE=URI;X-ADDRESS=damaso alonso 23\, segovia\
 , Castilla y León\, 40006\, segovia\, España;X-APPLE-RADIUS=100;X-TITLE=
 Instituto Felipe VI:geo:0,0
END:VEVENT
BEGIN:VTIMEZONE
TZID:Europe/Madrid
X-LIC-LOCATION:Europe/Madrid
BEGIN:DAYLIGHT
DTSTART:20230326T030000
TZOFFSETFROM:+0100
TZOFFSETTO:+0200
TZNAME:CEST
END:DAYLIGHT
END:VTIMEZONE
END:VCALENDAR