BEGIN:VCALENDAR
VERSION:2.0
PRODID:-//wp-events-plugin.com//7.2.3.1//EN
BEGIN:VEVENT
UID:2709@segoviaesclerosis.org
DTSTART;TZID=Europe/Madrid:20230225T200000
DTEND;TZID=Europe/Madrid:20230225T230000
DTSTAMP:20230207T142304Z
URL:https://www.segoviaesclerosis.org/events/cena-y-asamblea-asgem-latrebe
 de/
SUMMARY:Cena y asamblea ASGEM Latrebede
DESCRIPTION:Buenos días\,\n\nel próximo 25 de febrero se celebrara la Asa
 mblea y Cena anual de ASGEM\, os esperamos! Fecha límite para apuntarse e
 l 21 de febrero. saludos!\n\n&nbsp\;\n\nASAMBLEA y CENA 2023
CATEGORIES:Eventos
LOCATION:Latrevede\, c/ el alamo\, Segovia\, Castilla y León\, 40140\, seg
 ovia\, España
X-APPLE-STRUCTURED-LOCATION;VALUE=URI;X-ADDRESS=c/ el alamo\, Segovia\, Cas
 tilla y León\, 40140\, segovia\, España;X-APPLE-RADIUS=100;X-TITLE=Latre
 vede:geo:0,0
END:VEVENT
BEGIN:VTIMEZONE
TZID:Europe/Madrid
X-LIC-LOCATION:Europe/Madrid
BEGIN:STANDARD
DTSTART:20221030T020000
TZOFFSETFROM:+0200
TZOFFSETTO:+0100
TZNAME:CET
END:STANDARD
END:VTIMEZONE
END:VCALENDAR