BEGIN:VCALENDAR
VERSION:2.0
PRODID:-//wp-events-plugin.com//7.2.3.1//EN
BEGIN:VEVENT
UID:2708@segoviaesclerosis.org
DTSTART;TZID=Europe/Madrid:20230602T000000
DTEND;TZID=Europe/Madrid:20230604T000000
DTSTAMP:20230111T130147Z
URL:https://www.segoviaesclerosis.org/events/5429/
SUMMARY:Torneo padel
DESCRIPTION:
CATEGORIES:Eventos
LOCATION:padel zone\, calle roble\, valverde del majano\, segovia\, 40140\,
  castilla y leon\, España
X-APPLE-STRUCTURED-LOCATION;VALUE=URI;X-ADDRESS=calle roble\, valverde del 
 majano\, segovia\, 40140\, castilla y leon\, España;X-APPLE-RADIUS=100;X-
 TITLE=padel zone:geo:0,0
END:VEVENT
BEGIN:VTIMEZONE
TZID:Europe/Madrid
X-LIC-LOCATION:Europe/Madrid
BEGIN:DAYLIGHT
DTSTART:20230326T030000
TZOFFSETFROM:+0100
TZOFFSETTO:+0200
TZNAME:CEST
END:DAYLIGHT
END:VTIMEZONE
END:VCALENDAR