BEGIN:VCALENDAR
VERSION:2.0
PRODID:-//wp-events-plugin.com//7.2.3.1//EN
BEGIN:VEVENT
UID:453@segoviaesclerosis.org
DTSTART:20150702T000000Z
DTEND:20150702T000000Z
DTSTAMP:20140924T161341Z
URL:https://www.segoviaesclerosis.org/events/1684-2015-07-02/
SUMMARY:Cafe tertulia
DESCRIPTION:El primer jueves de cada mes a las 11:00 horas en la sede de la
  asociación.
CATEGORIES:Eventos
LOCATION:Asociación Segoviana de Esclerosis Multiple\, Avenida de la Const
 itucion 17\,\, Segovia\, 40005\, España
GEO:40.937076;-4.11071400000003
X-APPLE-STRUCTURED-LOCATION;VALUE=URI;X-ADDRESS=Avenida de la Constitucion 
 17\,\, Segovia\, 40005\, España;X-APPLE-RADIUS=100;X-TITLE=Asociación Se
 goviana de Esclerosis Multiple:geo:40.937076,-4.11071400000003
END:VEVENT
END:VCALENDAR