BEGIN:VCALENDAR
VERSION:2.0
PRODID:-//wp-events-plugin.com//7.2.3.1//EN
BEGIN:VEVENT
UID:1076@segoviaesclerosis.org
DTSTART;VALUE=DATE:20150111
DTEND;VALUE=DATE:20150112
DTSTAMP:20141226T182756Z
URL:https://www.segoviaesclerosis.org/events/%ef%bb%bf-matanza-solidaria-a
 -favor-de-la-federacion-de-esclerosis-multiple-de-castilla-y-leon/
SUMMARY:﻿ MATANZA SOLIDARIA A FAVOR DE LA FEDERACION DE ESCLEROSIS MULTIP
 LE DE CASTILLA Y LEON
DESCRIPTION:
CATEGORIES:Eventos
LOCATION:venta magullo\, Carretera Soria-Plasencia\, Kilometro 189\, segovi
 a\, segovia\, castilla y leon\, España
GEO:40.9429032;-4.1088068999999905
X-APPLE-STRUCTURED-LOCATION;VALUE=URI;X-ADDRESS=Carretera Soria-Plasencia\,
  Kilometro 189\, segovia\, segovia\, castilla y leon\, España;X-APPLE-RAD
 IUS=100;X-TITLE=venta magullo:geo:40.9429032,-4.1088068999999905
END:VEVENT
END:VCALENDAR